BEGIN:VCALENDAR
VERSION:2.0
PRODID:-//TYPO3/NONSGML News system (news)//EN
CALSCALE:GREGORIAN
METHOD:PUBLISH
BEGIN:VEVENT
UID:news-109962@malta.gv.at

DTSTAMP:20260422T154302Z



DTSTART;TZID=Europe/Vienna:20260424T000000
DTEND;TZID=Europe/Vienna:20260424T000000

SUMMARY:Theateraufführung der Maltataler Laienspielgruppe
DESCRIPTION:

LOCATION:


END:VEVENT
END:VCALENDAR
