BEGIN:VCALENDAR
VERSION:2.0
PRODID:-//TYPO3/NONSGML News system (news)//EN
CALSCALE:GREGORIAN
METHOD:PUBLISH
BEGIN:VEVENT
UID:news-109966@malta.gv.at

DTSTAMP:20260425T155833Z



DTSTART;TZID=Europe/Vienna:20260509T200000
DTEND;TZID=Europe/Vienna:20260509T000000

SUMMARY:Frühjahrskonzert der TK-Malta
DESCRIPTION:

LOCATION:Festsaal Malta


END:VEVENT
END:VCALENDAR
