BEGIN:VCALENDAR
VERSION:2.0
PRODID:-//TYPO3/NONSGML News system (news)//EN
CALSCALE:GREGORIAN
METHOD:PUBLISH
BEGIN:VEVENT
UID:news-109963@malta.gv.at

DTSTAMP:20260422T155216Z



DTSTART;TZID=Europe/Vienna:20260425T200000
DTEND;TZID=Europe/Vienna:20260425T000000

SUMMARY:Theateraufführung der Maltataler Laienspielgruppe
DESCRIPTION:

LOCATION:Festsaal Malta


END:VEVENT
END:VCALENDAR
