BEGIN:VCALENDAR
VERSION:2.0
PRODID:-//TYPO3/NONSGML News system (news)//EN
CALSCALE:GREGORIAN
METHOD:PUBLISH
BEGIN:VEVENT
UID:news-109964@malta.gv.at

DTSTAMP:20260424T155424Z



DTSTART;TZID=Europe/Vienna:20260501T110000
DTEND;TZID=Europe/Vienna:20260501T000000

SUMMARY:Maibaumkraxl`n der Dorfgemeinschaft  Dornbach
DESCRIPTION:

LOCATION:Campingplatz Zechner


END:VEVENT
END:VCALENDAR
